BEGIN:VCALENDAR
VERSION:2.0
PRODID:-//Preble County Board of Developmental Disabilities - ECPv6.15.18//NONSGML v1.0//EN
CALSCALE:GREGORIAN
METHOD:PUBLISH
X-WR-CALNAME:Preble County Board of Developmental Disabilities
X-ORIGINAL-URL:https://prebledd.org
X-WR-CALDESC:Events for Preble County Board of Developmental Disabilities
REFRESH-INTERVAL;VALUE=DURATION:PT1H
X-Robots-Tag:noindex
X-PUBLISHED-TTL:PT1H
BEGIN:VTIMEZONE
TZID:America/Detroit
BEGIN:DAYLIGHT
TZOFFSETFROM:-0500
TZOFFSETTO:-0400
TZNAME:EDT
DTSTART:20210314T070000
END:DAYLIGHT
BEGIN:STANDARD
TZOFFSETFROM:-0400
TZOFFSETTO:-0500
TZNAME:EST
DTSTART:20211107T060000
END:STANDARD
BEGIN:DAYLIGHT
TZOFFSETFROM:-0500
TZOFFSETTO:-0400
TZNAME:EDT
DTSTART:20220313T070000
END:DAYLIGHT
BEGIN:STANDARD
TZOFFSETFROM:-0400
TZOFFSETTO:-0500
TZNAME:EST
DTSTART:20221106T060000
END:STANDARD
BEGIN:DAYLIGHT
TZOFFSETFROM:-0500
TZOFFSETTO:-0400
TZNAME:EDT
DTSTART:20230312T070000
END:DAYLIGHT
BEGIN:STANDARD
TZOFFSETFROM:-0400
TZOFFSETTO:-0500
TZNAME:EST
DTSTART:20231105T060000
END:STANDARD
END:VTIMEZONE
BEGIN:VEVENT
DTSTART;TZID=America/Detroit:20220514T080000
DTEND;TZID=America/Detroit:20220514T120000
DTSTAMP:20260419T094236
CREATED:20240702T214431Z
LAST-MODIFIED:20240702T214431Z
UID:10000048-1652515200-1652529600@prebledd.org
SUMMARY:PCBDD –  ASK Playground Clean Up Day
DESCRIPTION:
URL:https://prebledd.org/event/pcbdd-ask-playground-clean-up-day/
LOCATION:OH
END:VEVENT
BEGIN:VEVENT
DTSTART;TZID=America/Detroit:20220519T180000
DTEND;TZID=America/Detroit:20220519T190000
DTSTAMP:20260419T094236
CREATED:20240702T214431Z
LAST-MODIFIED:20240702T214431Z
UID:10000047-1652983200-1652986800@prebledd.org
SUMMARY:PCBDD May 19\, 2022 Board Meeting Canceled
DESCRIPTION:
URL:https://prebledd.org/event/pcbdd-may-19-2022-board-meeting-canceled/
LOCATION:OH
END:VEVENT
BEGIN:VEVENT
DTSTART;TZID=America/Detroit:20220523T170000
DTEND;TZID=America/Detroit:20220523T180000
DTSTAMP:20260419T094236
CREATED:20240702T214430Z
LAST-MODIFIED:20240702T214430Z
UID:10000046-1653325200-1653328800@prebledd.org
SUMMARY:PCBDD Special Board Meeting-Monday\, May 23\, 2022
DESCRIPTION:
URL:https://prebledd.org/event/pcbdd-special-board-meeting-monday-may-23-2022/
LOCATION:OH
END:VEVENT
END:VCALENDAR