BEGIN:VCALENDAR
VERSION:2.0
PRODID:-//Preble County Board of Developmental Disabilities - ECPv6.15.18//NONSGML v1.0//EN
CALSCALE:GREGORIAN
METHOD:PUBLISH
X-ORIGINAL-URL:https://prebledd.org
X-WR-CALDESC:Events for Preble County Board of Developmental Disabilities
REFRESH-INTERVAL;VALUE=DURATION:PT1H
X-Robots-Tag:noindex
X-PUBLISHED-TTL:PT1H
BEGIN:VTIMEZONE
TZID:America/Detroit
BEGIN:DAYLIGHT
TZOFFSETFROM:-0500
TZOFFSETTO:-0400
TZNAME:EDT
DTSTART:20200308T070000
END:DAYLIGHT
BEGIN:STANDARD
TZOFFSETFROM:-0400
TZOFFSETTO:-0500
TZNAME:EST
DTSTART:20201101T060000
END:STANDARD
BEGIN:DAYLIGHT
TZOFFSETFROM:-0500
TZOFFSETTO:-0400
TZNAME:EDT
DTSTART:20210314T070000
END:DAYLIGHT
BEGIN:STANDARD
TZOFFSETFROM:-0400
TZOFFSETTO:-0500
TZNAME:EST
DTSTART:20211107T060000
END:STANDARD
BEGIN:DAYLIGHT
TZOFFSETFROM:-0500
TZOFFSETTO:-0400
TZNAME:EDT
DTSTART:20220313T070000
END:DAYLIGHT
BEGIN:STANDARD
TZOFFSETFROM:-0400
TZOFFSETTO:-0500
TZNAME:EST
DTSTART:20221106T060000
END:STANDARD
END:VTIMEZONE
BEGIN:VEVENT
DTSTART;TZID=America/Detroit:20210801T100000
DTEND;TZID=America/Detroit:20210808T180000
DTSTAMP:20260422T070514
CREATED:20240702T214516Z
LAST-MODIFIED:20240702T214516Z
UID:10000063-1627812000-1628445600@prebledd.org
SUMMARY:PCBDD Community Information Booth @ Preble County Fair
DESCRIPTION:
URL:https://prebledd.org/event/pcbdd-community-information-booth-preble-county-fair/
LOCATION:OH
END:VEVENT
BEGIN:VEVENT
DTSTART;TZID=America/Detroit:20210810T180000
DTEND;TZID=America/Detroit:20210810T193000
DTSTAMP:20260422T070514
CREATED:20240702T214516Z
LAST-MODIFIED:20240702T214516Z
UID:10000062-1628618400-1628623800@prebledd.org
SUMMARY:Preble County Board of DD August Board Meeting
DESCRIPTION:
URL:https://prebledd.org/event/preble-county-board-of-dd-august-board-meeting/
LOCATION:OH
END:VEVENT
END:VCALENDAR