BEGIN:VCALENDAR
VERSION:2.0
PRODID:-//Preble County Board of Developmental Disabilities - ECPv6.15.20//NONSGML v1.0//EN
CALSCALE:GREGORIAN
METHOD:PUBLISH
X-ORIGINAL-URL:https://prebledd.org
X-WR-CALDESC:Events for Preble County Board of Developmental Disabilities
REFRESH-INTERVAL;VALUE=DURATION:PT1H
X-Robots-Tag:noindex
X-PUBLISHED-TTL:PT1H
BEGIN:VTIMEZONE
TZID:America/Detroit
BEGIN:DAYLIGHT
TZOFFSETFROM:-0500
TZOFFSETTO:-0400
TZNAME:EDT
DTSTART:20180311T070000
END:DAYLIGHT
BEGIN:STANDARD
TZOFFSETFROM:-0400
TZOFFSETTO:-0500
TZNAME:EST
DTSTART:20181104T060000
END:STANDARD
BEGIN:DAYLIGHT
TZOFFSETFROM:-0500
TZOFFSETTO:-0400
TZNAME:EDT
DTSTART:20190310T070000
END:DAYLIGHT
BEGIN:STANDARD
TZOFFSETFROM:-0400
TZOFFSETTO:-0500
TZNAME:EST
DTSTART:20191103T060000
END:STANDARD
BEGIN:DAYLIGHT
TZOFFSETFROM:-0500
TZOFFSETTO:-0400
TZNAME:EDT
DTSTART:20200308T070000
END:DAYLIGHT
BEGIN:STANDARD
TZOFFSETFROM:-0400
TZOFFSETTO:-0500
TZNAME:EST
DTSTART:20201101T060000
END:STANDARD
END:VTIMEZONE
BEGIN:VEVENT
DTSTART;TZID=America/Detroit:20190803T000000
DTEND;TZID=America/Detroit:20190803T235900
DTSTAMP:20260424T044010
CREATED:20240702T214746Z
LAST-MODIFIED:20240702T214746Z
UID:10000119-1564790400-1564876740@prebledd.org
SUMMARY:South Central Golf Qualifier
DESCRIPTION:
URL:https://prebledd.org/event/south-central-golf-qualifier-2/
LOCATION:OH
CATEGORIES:Sports
END:VEVENT
BEGIN:VEVENT
DTSTART;TZID=America/Detroit:20190805T000000
DTEND;TZID=America/Detroit:20190805T235900
DTSTAMP:20260424T044010
CREATED:20240702T214746Z
LAST-MODIFIED:20240702T214746Z
UID:10000118-1564963200-1565049540@prebledd.org
SUMMARY:Special Olympics Softball vs Wayne County IN at Acheiva in Richmond IN
DESCRIPTION:
URL:https://prebledd.org/event/special-olympics-softball-vs-wayne-county-in-at-acheiva-in-richmond-in/
LOCATION:OH
CATEGORIES:Sports
END:VEVENT
BEGIN:VEVENT
DTSTART;TZID=America/Detroit:20190807T000000
DTEND;TZID=America/Detroit:20190807T235900
DTSTAMP:20260424T044010
CREATED:20240702T214746Z
LAST-MODIFIED:20240702T214746Z
UID:10000116-1565136000-1565222340@prebledd.org
SUMMARY:Special Olympics Softball vs Darke County at Wayne Industries in Greenville
DESCRIPTION:
URL:https://prebledd.org/event/special-olympics-softball-vs-darke-county-at-wayne-industries-in-greenville-3/
LOCATION:OH
CATEGORIES:Sports
END:VEVENT
BEGIN:VEVENT
DTSTART;TZID=America/Detroit:20190807T000000
DTEND;TZID=America/Detroit:20190807T235900
DTSTAMP:20260424T044010
CREATED:20240702T214746Z
LAST-MODIFIED:20240702T214746Z
UID:10000117-1565136000-1565222340@prebledd.org
SUMMARY:Area 10 Golf Tournament
DESCRIPTION:
URL:https://prebledd.org/event/area-10-golf-tournament/
LOCATION:OH
CATEGORIES:Sports
END:VEVENT
BEGIN:VEVENT
DTSTART;TZID=America/Detroit:20190809T000000
DTEND;TZID=America/Detroit:20190809T235900
DTSTAMP:20260424T044010
CREATED:20240702T214731Z
LAST-MODIFIED:20240702T214731Z
UID:10000115-1565308800-1565395140@prebledd.org
SUMMARY:South Central Golf Qualifier
DESCRIPTION:
URL:https://prebledd.org/event/south-central-golf-qualifier/
LOCATION:OH
CATEGORIES:Sports
END:VEVENT
BEGIN:VEVENT
DTSTART;TZID=America/Detroit:20190812T000000
DTEND;TZID=America/Detroit:20190812T235900
DTSTAMP:20260424T044010
CREATED:20240702T214731Z
LAST-MODIFIED:20240702T214731Z
UID:10000114-1565568000-1565654340@prebledd.org
SUMMARY:Special Olympics Softball vs Warren County in Lebanon
DESCRIPTION:
URL:https://prebledd.org/event/special-olympics-softball-vs-warren-county-in-lebanon/
LOCATION:OH
CATEGORIES:Sports
END:VEVENT
BEGIN:VEVENT
DTSTART;TZID=America/Detroit:20190814T000000
DTEND;TZID=America/Detroit:20190814T235900
DTSTAMP:20260424T044010
CREATED:20240702T214731Z
LAST-MODIFIED:20240702T214731Z
UID:10000113-1565740800-1565827140@prebledd.org
SUMMARY:Special Olympics Softball vs Darke County at Wayne Industries in Greenville
DESCRIPTION:
URL:https://prebledd.org/event/special-olympics-softball-vs-darke-county-at-wayne-industries-in-greenville-2/
LOCATION:OH
CATEGORIES:Sports
END:VEVENT
BEGIN:VEVENT
DTSTART;TZID=America/Detroit:20190817T000000
DTEND;TZID=America/Detroit:20190818T235900
DTSTAMP:20260424T044010
CREATED:20240702T214731Z
LAST-MODIFIED:20240702T214731Z
UID:10000112-1566000000-1566172740@prebledd.org
SUMMARY:State Equestrian
DESCRIPTION:
URL:https://prebledd.org/event/state-equestrian/
LOCATION:OH
CATEGORIES:Sports
END:VEVENT
BEGIN:VEVENT
DTSTART;TZID=America/Detroit:20190819T000000
DTEND;TZID=America/Detroit:20190819T235900
DTSTAMP:20260424T044010
CREATED:20240702T214730Z
LAST-MODIFIED:20240702T214730Z
UID:10000111-1566172800-1566259140@prebledd.org
SUMMARY:Special Olympics Softball vs Miami County at Riverside School in Troy
DESCRIPTION:
URL:https://prebledd.org/event/special-olympics-softball-vs-miami-county-at-riverside-school-in-troy/
LOCATION:OH
CATEGORIES:Sports
END:VEVENT
BEGIN:VEVENT
DTSTART;TZID=America/Detroit:20190821T000000
DTEND;TZID=America/Detroit:20190821T235900
DTSTAMP:20260424T044010
CREATED:20240702T214716Z
LAST-MODIFIED:20240702T214716Z
UID:10000110-1566345600-1566431940@prebledd.org
SUMMARY:Special Olympics Softball vs Montgomery County
DESCRIPTION:
URL:https://prebledd.org/event/special-olympics-softball-vs-montgomery-county/
LOCATION:OH
CATEGORIES:Sports
END:VEVENT
BEGIN:VEVENT
DTSTART;TZID=America/Detroit:20190824T000000
DTEND;TZID=America/Detroit:20190824T235900
DTSTAMP:20260424T044010
CREATED:20240702T214715Z
LAST-MODIFIED:20240702T214715Z
UID:10000109-1566604800-1566691140@prebledd.org
SUMMARY:South Central Softball Qualifier
DESCRIPTION:
URL:https://prebledd.org/event/south-central-softball-qualifier/
LOCATION:OH
CATEGORIES:Sports
END:VEVENT
BEGIN:VEVENT
DTSTART;TZID=America/Detroit:20190826T000000
DTEND;TZID=America/Detroit:20190826T235900
DTSTAMP:20260424T044010
CREATED:20240702T214715Z
LAST-MODIFIED:20240702T214715Z
UID:10000108-1566777600-1566863940@prebledd.org
SUMMARY:Special Olympics Softball vs Wayne County Indiana at Acheiva in Richmond Indiana
DESCRIPTION:
URL:https://prebledd.org/event/special-olympics-softball-vs-wayne-county-indiana-at-acheiva-in-richmond-indiana/
LOCATION:OH
CATEGORIES:Sports
END:VEVENT
BEGIN:VEVENT
DTSTART;TZID=America/Detroit:20190827T000000
DTEND;TZID=America/Detroit:20190827T235900
DTSTAMP:20260424T044010
CREATED:20240702T214715Z
LAST-MODIFIED:20240702T214715Z
UID:10000107-1566864000-1566950340@prebledd.org
SUMMARY:Special Olympics Softball vs Darke County at Wayne Industries in Greenville
DESCRIPTION:
URL:https://prebledd.org/event/special-olympics-softball-vs-darke-county-at-wayne-industries-in-greenville/
LOCATION:OH
CATEGORIES:Sports
END:VEVENT
END:VCALENDAR