BEGIN:VCALENDAR
VERSION:2.0
PRODID:-//Preble County Board of Developmental Disabilities - ECPv6.15.20//NONSGML v1.0//EN
CALSCALE:GREGORIAN
METHOD:PUBLISH
X-WR-CALNAME:Preble County Board of Developmental Disabilities
X-ORIGINAL-URL:https://prebledd.org
X-WR-CALDESC:Events for Preble County Board of Developmental Disabilities
REFRESH-INTERVAL;VALUE=DURATION:PT1H
X-Robots-Tag:noindex
X-PUBLISHED-TTL:PT1H
BEGIN:VTIMEZONE
TZID:America/Detroit
BEGIN:DAYLIGHT
TZOFFSETFROM:-0500
TZOFFSETTO:-0400
TZNAME:EDT
DTSTART:20180311T070000
END:DAYLIGHT
BEGIN:STANDARD
TZOFFSETFROM:-0400
TZOFFSETTO:-0500
TZNAME:EST
DTSTART:20181104T060000
END:STANDARD
BEGIN:DAYLIGHT
TZOFFSETFROM:-0500
TZOFFSETTO:-0400
TZNAME:EDT
DTSTART:20190310T070000
END:DAYLIGHT
BEGIN:STANDARD
TZOFFSETFROM:-0400
TZOFFSETTO:-0500
TZNAME:EST
DTSTART:20191103T060000
END:STANDARD
BEGIN:DAYLIGHT
TZOFFSETFROM:-0500
TZOFFSETTO:-0400
TZNAME:EDT
DTSTART:20200308T070000
END:DAYLIGHT
BEGIN:STANDARD
TZOFFSETFROM:-0400
TZOFFSETTO:-0500
TZNAME:EST
DTSTART:20201101T060000
END:STANDARD
END:VTIMEZONE
BEGIN:VEVENT
DTSTART;TZID=America/Detroit:20190713T000000
DTEND;TZID=America/Detroit:20190713T235900
DTSTAMP:20260424T060136
CREATED:20240702T214801Z
LAST-MODIFIED:20240702T214801Z
UID:10000124-1562976000-1563062340@prebledd.org
SUMMARY:Fairhaven Golf Invitational
DESCRIPTION:
URL:https://prebledd.org/event/fairhaven-golf-invitational/
LOCATION:OH
CATEGORIES:Sports
END:VEVENT
BEGIN:VEVENT
DTSTART;TZID=America/Detroit:20190713T090000
DTEND;TZID=America/Detroit:20190713T140000
DTSTAMP:20260424T060136
CREATED:20240702T214801Z
LAST-MODIFIED:20240702T214801Z
UID:10000123-1563008400-1563026400@prebledd.org
SUMMARY:10th Annual Cleveland Plane Pull
DESCRIPTION:
URL:https://prebledd.org/event/10th-annual-cleveland-plane-pull/
LOCATION:OH
CATEGORIES:Fundraising,Torch Run
END:VEVENT
BEGIN:VEVENT
DTSTART;TZID=America/Detroit:20190720T000000
DTEND;TZID=America/Detroit:20190720T235900
DTSTAMP:20260424T060136
CREATED:20240702T214801Z
LAST-MODIFIED:20240702T214801Z
UID:10000122-1563580800-1563667140@prebledd.org
SUMMARY:Eunice Kennedy Shriver Day: A Day of Inclusion
DESCRIPTION:
URL:https://prebledd.org/event/eunice-kennedy-shriver-day-a-day-of-inclusion/
LOCATION:OH
CATEGORIES:Community
END:VEVENT
BEGIN:VEVENT
DTSTART;TZID=America/Detroit:20190730T000000
DTEND;TZID=America/Detroit:20190730T235900
DTSTAMP:20260424T060136
CREATED:20240702T214801Z
LAST-MODIFIED:20240702T214801Z
UID:10000121-1564444800-1564531140@prebledd.org
SUMMARY:Special Olympics Softball Game vs Darke County at Home
DESCRIPTION:
URL:https://prebledd.org/event/special-olympics-softball-game-vs-darke-county-at-home/
LOCATION:OH
CATEGORIES:Sports
END:VEVENT
BEGIN:VEVENT
DTSTART;TZID=America/Detroit:20190731T000000
DTEND;TZID=America/Detroit:20190731T235900
DTSTAMP:20260424T060136
CREATED:20240702T214746Z
LAST-MODIFIED:20240702T214746Z
UID:10000120-1564531200-1564617540@prebledd.org
SUMMARY:Special Olympics Softball vs Miami County at Riverside School in Troy
DESCRIPTION:
URL:https://prebledd.org/event/special-olympics-softball-vs-miami-county-at-riverside-school-in-troy-2/
LOCATION:OH
CATEGORIES:Sports
END:VEVENT
END:VCALENDAR