BEGIN:VCALENDAR
VERSION:2.0
PRODID:-//Preble County Board of Developmental Disabilities - ECPv6.15.20//NONSGML v1.0//EN
CALSCALE:GREGORIAN
METHOD:PUBLISH
X-ORIGINAL-URL:https://prebledd.org
X-WR-CALDESC:Events for Preble County Board of Developmental Disabilities
REFRESH-INTERVAL;VALUE=DURATION:PT1H
X-Robots-Tag:noindex
X-PUBLISHED-TTL:PT1H
BEGIN:VTIMEZONE
TZID:America/Detroit
BEGIN:DAYLIGHT
TZOFFSETFROM:-0500
TZOFFSETTO:-0400
TZNAME:EDT
DTSTART:20180311T070000
END:DAYLIGHT
BEGIN:STANDARD
TZOFFSETFROM:-0400
TZOFFSETTO:-0500
TZNAME:EST
DTSTART:20181104T060000
END:STANDARD
BEGIN:DAYLIGHT
TZOFFSETFROM:-0500
TZOFFSETTO:-0400
TZNAME:EDT
DTSTART:20190310T070000
END:DAYLIGHT
BEGIN:STANDARD
TZOFFSETFROM:-0400
TZOFFSETTO:-0500
TZNAME:EST
DTSTART:20191103T060000
END:STANDARD
BEGIN:DAYLIGHT
TZOFFSETFROM:-0500
TZOFFSETTO:-0400
TZNAME:EDT
DTSTART:20200308T070000
END:DAYLIGHT
BEGIN:STANDARD
TZOFFSETFROM:-0400
TZOFFSETTO:-0500
TZNAME:EST
DTSTART:20201101T060000
END:STANDARD
END:VTIMEZONE
BEGIN:VEVENT
DTSTART;TZID=America/Detroit:20190601T000000
DTEND;TZID=America/Detroit:20190601T235900
DTSTAMP:20260424T070836
CREATED:20240702T214816Z
LAST-MODIFIED:20240702T214816Z
UID:10000129-1559347200-1559433540@prebledd.org
SUMMARY:Henry County Equestrian Invitational
DESCRIPTION:
URL:https://prebledd.org/event/henry-county-equestrian-invitational/
LOCATION:OH
CATEGORIES:Sports
END:VEVENT
BEGIN:VEVENT
DTSTART;TZID=America/Detroit:20190601T000000
DTEND;TZID=America/Detroit:20190601T235900
DTSTAMP:20260424T070836
CREATED:20240702T214816Z
LAST-MODIFIED:20240702T214816Z
UID:10000130-1559347200-1559433540@prebledd.org
SUMMARY:Area 2 Spring Games
DESCRIPTION:
URL:https://prebledd.org/event/area-2-spring-games/
LOCATION:OH
CATEGORIES:Sports
END:VEVENT
BEGIN:VEVENT
DTSTART;TZID=America/Detroit:20190601T000000
DTEND;TZID=America/Detroit:20190601T235900
DTSTAMP:20260424T070836
CREATED:20240702T214831Z
LAST-MODIFIED:20240702T214831Z
UID:10000131-1559347200-1559433540@prebledd.org
SUMMARY:South Central Region- Dublin Fun Meet and Qualifier
DESCRIPTION:
URL:https://prebledd.org/event/south-central-region-dublin-fun-meet-and-qualifier/
LOCATION:OH
CATEGORIES:Sports
END:VEVENT
BEGIN:VEVENT
DTSTART;TZID=America/Detroit:20190602T000000
DTEND;TZID=America/Detroit:20190602T235900
DTSTAMP:20260424T070836
CREATED:20240702T214816Z
LAST-MODIFIED:20240702T214816Z
UID:10000128-1559433600-1559519940@prebledd.org
SUMMARY:South Central Region/Area 6 Gymnastics Qualifier
DESCRIPTION:
URL:https://prebledd.org/event/south-central-region-area-6-gymnastics-qualifier/
LOCATION:OH
CATEGORIES:Sports
END:VEVENT
BEGIN:VEVENT
DTSTART;TZID=America/Detroit:20190616T000000
DTEND;TZID=America/Detroit:20190616T235900
DTSTAMP:20260424T070836
CREATED:20240702T214816Z
LAST-MODIFIED:20240702T214816Z
UID:10000127-1560643200-1560729540@prebledd.org
SUMMARY:South Central Equestrian Qualifier
DESCRIPTION:
URL:https://prebledd.org/event/south-central-equestrian-qualifier/
LOCATION:OH
CATEGORIES:Sports
END:VEVENT
BEGIN:VEVENT
DTSTART;TZID=America/Detroit:20190620T000000
DTEND;TZID=America/Detroit:20190628T235900
DTSTAMP:20260424T070836
CREATED:20240702T214816Z
LAST-MODIFIED:20240702T214816Z
UID:10000126-1560988800-1561766340@prebledd.org
SUMMARY:Law Enforcement Torch Run for Special Olympics Ohio
DESCRIPTION:
URL:https://prebledd.org/event/law-enforcement-torch-run-for-special-olympics-ohio/
LOCATION:OH
CATEGORIES:Torch Run
END:VEVENT
BEGIN:VEVENT
DTSTART;TZID=America/Detroit:20190628T000000
DTEND;TZID=America/Detroit:20190630T235900
DTSTAMP:20260424T070836
CREATED:20240702T214801Z
LAST-MODIFIED:20240702T214801Z
UID:10000125-1561680000-1561939140@prebledd.org
SUMMARY:State Summer Games
DESCRIPTION:
URL:https://prebledd.org/event/state-summer-games/
LOCATION:OH
CATEGORIES:Sports
END:VEVENT
END:VCALENDAR