BEGIN:VCALENDAR
VERSION:2.0
PRODID:-//Preble County Board of Developmental Disabilities - ECPv6.15.20//NONSGML v1.0//EN
CALSCALE:GREGORIAN
METHOD:PUBLISH
X-ORIGINAL-URL:https://prebledd.org
X-WR-CALDESC:Events for Preble County Board of Developmental Disabilities
REFRESH-INTERVAL;VALUE=DURATION:PT1H
X-Robots-Tag:noindex
X-PUBLISHED-TTL:PT1H
BEGIN:VTIMEZONE
TZID:America/Detroit
BEGIN:DAYLIGHT
TZOFFSETFROM:-0500
TZOFFSETTO:-0400
TZNAME:EDT
DTSTART:20180311T070000
END:DAYLIGHT
BEGIN:STANDARD
TZOFFSETFROM:-0400
TZOFFSETTO:-0500
TZNAME:EST
DTSTART:20181104T060000
END:STANDARD
BEGIN:DAYLIGHT
TZOFFSETFROM:-0500
TZOFFSETTO:-0400
TZNAME:EDT
DTSTART:20190310T070000
END:DAYLIGHT
BEGIN:STANDARD
TZOFFSETFROM:-0400
TZOFFSETTO:-0500
TZNAME:EST
DTSTART:20191103T060000
END:STANDARD
BEGIN:DAYLIGHT
TZOFFSETFROM:-0500
TZOFFSETTO:-0400
TZNAME:EDT
DTSTART:20200308T070000
END:DAYLIGHT
BEGIN:STANDARD
TZOFFSETFROM:-0400
TZOFFSETTO:-0500
TZNAME:EST
DTSTART:20201101T060000
END:STANDARD
END:VTIMEZONE
BEGIN:VEVENT
DTSTART;TZID=America/Detroit:20190306T000000
DTEND;TZID=America/Detroit:20190306T235900
DTSTAMP:20260423T010148
CREATED:20240702T215101Z
LAST-MODIFIED:20240702T215101Z
UID:10000188-1551830400-1551916740@prebledd.org
SUMMARY:Spread the Word: Inclusion Day
DESCRIPTION:
URL:https://prebledd.org/event/spread-the-word-inclusion-day/
LOCATION:OH
CATEGORIES:Community
END:VEVENT
BEGIN:VEVENT
DTSTART;TZID=America/Detroit:20190321T000000
DTEND;TZID=America/Detroit:20190321T235900
DTSTAMP:20260423T010148
CREATED:20240702T215046Z
LAST-MODIFIED:20240702T215046Z
UID:10000185-1553126400-1553212740@prebledd.org
SUMMARY:World Down Syndrome Day
DESCRIPTION:
URL:https://prebledd.org/event/world-down-syndrome-day/
LOCATION:OH
CATEGORIES:Community
END:VEVENT
BEGIN:VEVENT
DTSTART;TZID=America/Detroit:20190323T000000
DTEND;TZID=America/Detroit:20190323T235900
DTSTAMP:20260423T010148
CREATED:20240702T215046Z
LAST-MODIFIED:20240702T215046Z
UID:10000183-1553299200-1553385540@prebledd.org
SUMMARY:Penny 4 A Pound to benefit Special Olympics Ohio
DESCRIPTION:
URL:https://prebledd.org/event/penny-4-a-pound-to-benefit-special-olympics-ohio/
LOCATION:OH
CATEGORIES:Community,Fundraising
END:VEVENT
END:VCALENDAR